BEGIN:VCALENDAR
VERSION:2.0
PRODID:-//Bremer Badminton Verband - ECPv6.5.2//NONSGML v1.0//EN
CALSCALE:GREGORIAN
METHOD:PUBLISH
X-ORIGINAL-URL:https://bremen-badminton.de
X-WR-CALDESC:Veranstaltungen für Bremer Badminton Verband
REFRESH-INTERVAL;VALUE=DURATION:PT1H
X-Robots-Tag:noindex
X-PUBLISHED-TTL:PT1H
BEGIN:VTIMEZONE
TZID:Europe/Berlin
BEGIN:DAYLIGHT
TZOFFSETFROM:+0100
TZOFFSETTO:+0200
TZNAME:CEST
DTSTART:20240331T010000
END:DAYLIGHT
BEGIN:STANDARD
TZOFFSETFROM:+0200
TZOFFSETTO:+0100
TZNAME:CET
DTSTART:20241027T010000
END:STANDARD
END:VTIMEZONE
BEGIN:VEVENT
DTSTART;TZID=Europe/Berlin:20241029T180000
DTEND;TZID=Europe/Berlin:20241029T210000
DTSTAMP:20260422T024345
CREATED:20240904T210824Z
LAST-MODIFIED:20240925T223954Z
UID:5037-1730224800-1730235600@bremen-badminton.de
SUMMARY:U19 Länderspiel: Deutschland - Schweiz
DESCRIPTION:
URL:https://bremen-badminton.de/eventsintern/u19-laenderspiel-deutschland-schweiz/
LOCATION:Sportzentrum Ronzelenstraße\, Ronzelenstraße 55\, Bremen\, 28359\, Deutschland
CATEGORIES:Länderspiel
ATTACH;FMTTYPE=image/jpeg:https://bremen-badminton.de/wp-content/uploads/2024/09/Plakat_JLS-Bremen_v3-extra-wide-scaled.jpg
END:VEVENT
END:VCALENDAR